BEGIN:VCALENDAR
VERSION:2.0
PRODID:-//DIGITAL FACTORY//EVENTS MAKER V1.6.14//EN
CALSCALE:GREGORIAN
BEGIN:VEVENT
DTEND:20190322T000100Z
UID:69ecd04c4ceff
DTSTAMP:20260425T143140Z
CATEGORIES:Events
DESCRIPTION:Scott Musick is a singer-songwriter\, drummer and CEO of Musick Therapy. He is a solo artist as well as a member of the acclaimed band The Call. His own songs are a departure from The Call’s rock sound with a more laid back style that winds around Americana to acoustic rock and gospel. Scott has performed with great artists such as Peter Gabriel\, Kris Kristofferson\, Elvis Costello\, Delbert McClinton and The Band as well as OK Music Hall of Fame inductees\, Hoyt Axton and Tommy Crook\, and many others.
URL;VALUE=URI:https://patriotsinthepark.com/events-2/event/scott-musick
SUMMARY:Scott Musick
DTSTART:20190322T000100Z
END:VEVENT
END:VCALENDAR
